BEGIN:VCALENDAR
VERSION:2.0
PRODID:-//Yaffed - ECPv6.3.5//NONSGML v1.0//EN
CALSCALE:GREGORIAN
METHOD:PUBLISH
X-WR-CALNAME:Yaffed
X-ORIGINAL-URL:https://yaffed.org
X-WR-CALDESC:Events for Yaffed
REFRESH-INTERVAL;VALUE=DURATION:PT1H
X-Robots-Tag:noindex
X-PUBLISHED-TTL:PT1H
BEGIN:VTIMEZONE
TZID:UTC
BEGIN:STANDARD
TZOFFSETFROM:+0000
TZOFFSETTO:+0000
TZNAME:UTC
DTSTART:20260101T000000
END:STANDARD
END:VTIMEZONE
BEGIN:VEVENT
DTSTART;TZID=UTC:20260519T180000
DTEND;TZID=UTC:20260519T193000
DTSTAMP:20260422T225901
CREATED:20260417T163526Z
LAST-MODIFIED:20260417T163526Z
UID:13238-1779213600-1779219000@yaffed.org
SUMMARY:Unorthodox Education Screening and Q&A
DESCRIPTION:In New York\, tens of thousands of Jewish children in the most orthodox yeshivas are not receiving a basic education\, with many often finishing school without being able to read or write in English. \nRegister here.
URL:https://yaffed.org/event/unorthodox-education-screening-and-qa/
LOCATION:The Cuny Graduate Center\, 365 Fifth Avenue\, New York\, NY\, 10016\, United Kingdom
ATTACH;FMTTYPE=image/png:https://yaffed.org/wp-content/uploads/2026/04/May-19th-6pm.png
END:VEVENT
END:VCALENDAR