BEGIN:VCALENDAR
VERSION:2.0
PRODID:-//Yaffed - ECPv6.3.5//NONSGML v1.0//EN
CALSCALE:GREGORIAN
METHOD:PUBLISH
X-WR-CALNAME:Yaffed
X-ORIGINAL-URL:https://yaffed.org
X-WR-CALDESC:Events for Yaffed
REFRESH-INTERVAL;VALUE=DURATION:PT1H
X-Robots-Tag:noindex
X-PUBLISHED-TTL:PT1H
BEGIN:VTIMEZONE
TZID:UTC
BEGIN:STANDARD
TZOFFSETFROM:+0000
TZOFFSETTO:+0000
TZNAME:UTC
DTSTART:20220101T000000
END:STANDARD
END:VTIMEZONE
BEGIN:VEVENT
DTSTART;TZID=UTC:20221101T180000
DTEND;TZID=UTC:20221101T190000
DTSTAMP:20260422T153347
CREATED:20221025T230104Z
LAST-MODIFIED:20221025T230516Z
UID:8852-1667325600-1667329200@yaffed.org
SUMMARY:The State of Hasidic Education: The Right to Learn\, the Obligation to Teach
DESCRIPTION:The Roosevelt House Public Policy Institute and the Hunter College Jewish Studies Center invite you to a newsworthy discussion on the timely topic of secular education standards in New York State’s Ultra-Orthodox Yeshivas \nA New Public Program Live and Online \nFeaturing: Naftuli Moster\, Schneur Zalman Newfield\, Beatrice Weber\, and Dr. Leah Garrett
URL:https://yaffed.org/event/state-hasidic/
LOCATION:Roosevelt House\, 47-49 East 65th Street\, Between Park & Madison Avenues\, New York\, NY\, United States
CATEGORIES:Panel
ATTACH;FMTTYPE=image/jpeg:https://yaffed.org/wp-content/uploads/2022/10/Image_20221024_115701-1.jpeg
ORGANIZER;CN="Yaffed":MAILTO:info@yaffed.org
END:VEVENT
END:VCALENDAR