BEGIN:VCALENDAR
VERSION:2.0
PRODID:-//Yaffed - ECPv6.3.5//NONSGML v1.0//EN
CALSCALE:GREGORIAN
METHOD:PUBLISH
X-WR-CALNAME:Yaffed
X-ORIGINAL-URL:https://yaffed.org
X-WR-CALDESC:Events for Yaffed
REFRESH-INTERVAL;VALUE=DURATION:PT1H
X-Robots-Tag:noindex
X-PUBLISHED-TTL:PT1H
BEGIN:VTIMEZONE
TZID:UTC
BEGIN:STANDARD
TZOFFSETFROM:+0000
TZOFFSETTO:+0000
TZNAME:UTC
DTSTART:20260101T000000
END:STANDARD
END:VTIMEZONE
BEGIN:VEVENT
DTSTART;TZID=UTC:20260203T190000
DTEND;TZID=UTC:20260203T203000
DTSTAMP:20260421T131526
CREATED:20251223T175728Z
LAST-MODIFIED:20251223T175728Z
UID:13122-1770145200-1770150600@yaffed.org
SUMMARY:Unorthodox Education Screening
DESCRIPTION:In New York\, tens of thousands of Jewish children in the most orthodox yeshivas are not receiving a basic education\, with many often finishing school without being able to read or write in English. \nGet tickets here.
URL:https://yaffed.org/event/unorthodox-education-screening/
LOCATION:Congregation Beth Elohim\, 274 Garfield Pl\, Brooklyn\,\, Brooklyn\, NY\, 11215\, United States
ATTACH;FMTTYPE=image/png:https://yaffed.org/wp-content/uploads/2025/12/Copy-of-Gen-UE-Flyer-1-e1766512624900.png
END:VEVENT
END:VCALENDAR