BEGIN:VCALENDAR
VERSION:2.0
PRODID:-//Yaffed - ECPv6.3.5//NONSGML v1.0//EN
CALSCALE:GREGORIAN
METHOD:PUBLISH
X-ORIGINAL-URL:https://yaffed.org
X-WR-CALDESC:Events for Yaffed
REFRESH-INTERVAL;VALUE=DURATION:PT1H
X-Robots-Tag:noindex
X-PUBLISHED-TTL:PT1H
BEGIN:VTIMEZONE
TZID:UTC
BEGIN:STANDARD
TZOFFSETFROM:+0000
TZOFFSETTO:+0000
TZNAME:UTC
DTSTART:20250101T000000
END:STANDARD
END:VTIMEZONE
BEGIN:VEVENT
DTSTART;TZID=UTC:20250502T183000
DTEND;TZID=UTC:20250502T203000
DTSTAMP:20260423T005523
CREATED:20250320T192246Z
LAST-MODIFIED:20250422T222346Z
UID:12225-1746210600-1746217800@yaffed.org
SUMMARY:Shabbat Meal
DESCRIPTION:Join YAFFED for our free Friday night Shabbos-ish dinner! This will be a warm\, welcoming space to connect\, have some kugel\, schmooze\, and engage with others who share similar experiences and a passion for making a difference. \nFriday May 2\, 2025 \n6:30 – 8:30pm \n  \nCLICK HERE TO RSVP\n  \nBrooklyn location upon RSVP \nFor more information: contact m.schtroks@yaffed.org \n \n 
URL:https://yaffed.org/event/may-shabbat-meal/
LOCATION:NY
ATTACH;FMTTYPE=image/png:https://yaffed.org/wp-content/uploads/2025/03/Shabbat-Dinner.png
END:VEVENT
END:VCALENDAR