BEGIN:VCALENDAR
VERSION:2.0
PRODID:-//Yaffed - ECPv6.3.5//NONSGML v1.0//EN
CALSCALE:GREGORIAN
METHOD:PUBLISH
X-ORIGINAL-URL:https://yaffed.org
X-WR-CALDESC:Events for Yaffed
REFRESH-INTERVAL;VALUE=DURATION:PT1H
X-Robots-Tag:noindex
X-PUBLISHED-TTL:PT1H
BEGIN:VTIMEZONE
TZID:America/New_York
BEGIN:DAYLIGHT
TZOFFSETFROM:-0500
TZOFFSETTO:-0400
TZNAME:EDT
DTSTART:20230312T070000
END:DAYLIGHT
BEGIN:STANDARD
TZOFFSETFROM:-0400
TZOFFSETTO:-0500
TZNAME:EST
DTSTART:20231105T060000
END:STANDARD
END:VTIMEZONE
BEGIN:VEVENT
DTSTART;TZID=America/New_York:20230321T190000
DTEND;TZID=America/New_York:20230321T210000
DTSTAMP:20260421T134827
CREATED:20230309T120409Z
LAST-MODIFIED:20230309T120411Z
UID:10161-1679425200-1679432400@yaffed.org
SUMMARY:Jewish Education Justice: Why All New Yorkers Should Care
DESCRIPTION:In New York\, upwards of 50\,000 Haredi children are currently facing educational neglect at the hands of their community leaders\, and many parents who leave the community are deprived of their rights to relationships with their children. \nJoin us for a timely conversation about the parameters of education and family justice in the Haredi world and how these intersect\, as we examine our communal obligation to our neighbors and fellow Jewish people. \nBuy tickets here: https://www.92ny.org/event/jewish-education-justice
URL:https://yaffed.org/event/jewish-education-justice/
LOCATION:92NY\, 1395 Lexington Avenue\, New York\, NY\, 10128\, United States
CATEGORIES:Panel
ATTACH;FMTTYPE=image/jpeg:https://yaffed.org/wp-content/uploads/2023/03/weber-kay-messinger-lander.jpeg
END:VEVENT
END:VCALENDAR