BEGIN:VCALENDAR
VERSION:2.0
PRODID:-//Yaffed - ECPv6.3.5//NONSGML v1.0//EN
CALSCALE:GREGORIAN
METHOD:PUBLISH
X-WR-CALNAME:Yaffed
X-ORIGINAL-URL:https://yaffed.org
X-WR-CALDESC:Events for Yaffed
REFRESH-INTERVAL;VALUE=DURATION:PT1H
X-Robots-Tag:noindex
X-PUBLISHED-TTL:PT1H
BEGIN:VTIMEZONE
TZID:UTC
BEGIN:STANDARD
TZOFFSETFROM:+0000
TZOFFSETTO:+0000
TZNAME:UTC
DTSTART:20220101T000000
END:STANDARD
END:VTIMEZONE
BEGIN:VEVENT
DTSTART;TZID=UTC:20220711T193000
DTEND;TZID=UTC:20220711T210000
DTSTAMP:20260421T042537
CREATED:20220623T144710Z
LAST-MODIFIED:20220623T155801Z
UID:7234-1657567800-1657573200@yaffed.org
SUMMARY:An Unorthodox Education: Screening and Conversation with Budd Mishkin\, Beatrice Weber and Naftuli Moster
DESCRIPTION:The timely and important documentary an Unorthodox Education exposes a shocking truth largely unknown to the general public — tens of thousands of children currently attend ultra-Orthodox schools in New York that refuse to provide students with the legally-mandated general education they need to lead self-sufficient adult lives. \nThe film includes testimony from former yeshiva students and parents alike who tell their stories\, some for the very first time\, and also reveals how political leaders in New York City deliberately delayed reform efforts in return for political favors from the ultra-Orthodox community. These heartbreaking accounts illuminate the consequences of being denied instruction in subjects such as English language\, math\, science and social studies. An Unorthodox Education also captures how the rampant ignorance of science had deadly and devastating effects within so many of the Hasidic and Haredi communities as COVID-19 safety protocols were ignored or vehemently opposed. \nFollowing the screening\, veteran broadcast journalist Budd Mishkin will moderate a discussion with Naftuli Moster\, a former Hasidic yeshiva student and founder and executive director of Yaffed — a local non-profit which is leading the fight to ensure that all ultra-Orthodox and Hasidic children in America receive the basic education to which they are legally entitled — and Beatrice Weber\, an outspoken advocate and mother of ten who filed a lawsuit against NYC’s Department of Education and her son’s Hasidic yeshiva.
URL:https://yaffed.org/event/92ny-yaffed-film-screening-discussion/
LOCATION:92NY\, 1395 Lexington Avenue\, New York\, NY\, 10128\, United States
END:VEVENT
END:VCALENDAR